BEGIN:VCALENDAR
VERSION:2.0
PRODID:-//Érintés Fesztivál - ECPv5.1.5//NONSGML v1.0//EN
CALSCALE:GREGORIAN
METHOD:PUBLISH
X-WR-CALNAME:Érintés Fesztivál
X-ORIGINAL-URL:https://erintesfesztival.hu
X-WR-CALDESC:Events for Érintés Fesztivál
BEGIN:VTIMEZONE
TZID:Europe/Budapest
BEGIN:DAYLIGHT
TZOFFSETFROM:+0100
TZOFFSETTO:+0200
TZNAME:CEST
DTSTART:20230326T010000
END:DAYLIGHT
BEGIN:STANDARD
TZOFFSETFROM:+0200
TZOFFSETTO:+0100
TZNAME:CET
DTSTART:20231029T010000
END:STANDARD
END:VTIMEZONE
BEGIN:VEVENT
DTSTART;TZID=Europe/Budapest:20230423T153000
DTEND;TZID=Europe/Budapest:20230423T170000
DTSTAMP:20260422T165812
CREATED:20230210T011427Z
LAST-MODIFIED:20230311T223213Z
UID:5902-1682263800-1682269200@erintesfesztival.hu
SUMMARY:Aroma yoga (csoportos foglalkozás\, 90 perc)
DESCRIPTION:Onozó Emese programja – az aroma yoga® módszerét 2015-ben tanultam meg Tracy Griffithstől\, ami az általam ismert legjobb módszer a fizikai-mentális-érzelmi egyensúlyunk helyreállítására és fenntartására. Az elemek működését figyeljük meg a természetben és az életünkben. Mindannyian kibillentek vagyunk. Érdekes megfigyelni\, hogy a mozgás hogyan tükrözi az érzelemvilágunkat és a gondolkodásunkat. Hogyan állunk a lábunkon egyedül? Hogyan tudunk a legkönnyebben kapcsolódni másokkal? Milyen a számunkra az érintés? Mennyire tudjuk magunkat beleengedni a tapasztalásokba? Az órán könnyen kivitelezhető ászanákkal\, egyéni és páros gyakorlatokkal dolgzunk és illóolajokkal. \n
URL:https://erintesfesztival.hu/program/aroma-yoga-csoportos-foglalkozas-90-perc/
LOCATION:Jurányi Produkciós Közösségi Inkubátorház\, Jurányi utca 1-3.\, Budapest\, 1027\, Magyarország
CATEGORIES:"nyugis",csoportos program
ATTACH;FMTTYPE=image/jpeg:https://erintesfesztival.hu/wp-content/uploads/2023/02/Onozo-program.jpg
GEO:47.508832;19.0280193
X-APPLE-STRUCTURED-LOCATION;VALUE=URI;X-ADDRESS=Jurányi Produkciós Közösségi Inkubátorház Jurányi utca 1-3. Budapest 1027 Magyarország;X-APPLE-RADIUS=500;X-TITLE=Jurányi utca 1-3.:geo:19.0280193,47.508832
END:VEVENT
END:VCALENDAR