BEGIN:VCALENDAR
VERSION:2.0
PRODID:-//Érintés Fesztivál - ECPv5.1.5//NONSGML v1.0//EN
CALSCALE:GREGORIAN
METHOD:PUBLISH
X-WR-CALNAME:Érintés Fesztivál
X-ORIGINAL-URL:https://erintesfesztival.hu
X-WR-CALDESC:Events for Érintés Fesztivál
BEGIN:VTIMEZONE
TZID:Europe/Budapest
BEGIN:DAYLIGHT
TZOFFSETFROM:+0100
TZOFFSETTO:+0200
TZNAME:CEST
DTSTART:20230326T010000
END:DAYLIGHT
BEGIN:STANDARD
TZOFFSETFROM:+0200
TZOFFSETTO:+0100
TZNAME:CET
DTSTART:20231029T010000
END:STANDARD
END:VTIMEZONE
BEGIN:VEVENT
DTSTART;TZID=Europe/Budapest:20230422T193000
DTEND;TZID=Europe/Budapest:20230422T210000
DTSTAMP:20260422T165348
CREATED:20230327T180524Z
LAST-MODIFIED:20230327T181805Z
UID:6065-1682191800-1682197200@erintesfesztival.hu
SUMMARY:Az érintés 8 minősége (előadás\, beszélgetés\, 90 perc)
DESCRIPTION:Ha te hozzám érsz\, vagy én hozzád érek\, akkor mindketten könnyen belecsúszhatunk különféle tipikus szerepekbe. Ezen szerepek egy része jó érzéssel tölt el minket\, és közelebb hozhat minket egymáshoz. Másik része viszont rossz érzést ad\, és eltávolít. Milyen tipikus szerepek szoktak előfordulni? Mitől függ\, hogy milyen szerepbe kerülünk? Hogyan tudunk rálátni ezekre a szerepekre? Meg tudjuk-e választani őket a megszokott “belecsúszás” helyett? Ezen az előadáson-beszélgetésen megismerkedünk a Betty Martin-féle Wheel of Consent c. koncepcióval\, majd az általatok hozott példákat átbeszélve testközelbe is hozzuk azt. Ez a rendszer mind a mindennapokban\, mind akár az Érintés Fesztivál során kiváló lehetőséget ad ahhoz\, hogy még tudatosabban éljük az életünket\, Várlak szeretettel! \n
URL:https://erintesfesztival.hu/program/az-erintes-8-minosege-eloadas-beszelgetes-90-perc/
LOCATION:Jurányi Produkciós Közösségi Inkubátorház\, Jurányi utca 1-3.\, Budapest\, 1027\, Magyarország
CATEGORIES:"nyugis",beszélgetés,előadás
ATTACH;FMTTYPE=image/jpeg:https://erintesfesztival.hu/wp-content/uploads/2023/03/Handonshoulder.jpg
GEO:47.508832;19.0280193
X-APPLE-STRUCTURED-LOCATION;VALUE=URI;X-ADDRESS=Jurányi Produkciós Közösségi Inkubátorház Jurányi utca 1-3. Budapest 1027 Magyarország;X-APPLE-RADIUS=500;X-TITLE=Jurányi utca 1-3.:geo:19.0280193,47.508832
END:VEVENT
END:VCALENDAR