BEGIN:VCALENDAR
VERSION:2.0
PRODID:-//Érintés Fesztivál - ECPv5.1.5//NONSGML v1.0//EN
CALSCALE:GREGORIAN
METHOD:PUBLISH
X-WR-CALNAME:Érintés Fesztivál
X-ORIGINAL-URL:https://erintesfesztival.hu
X-WR-CALDESC:Events for Érintés Fesztivál
BEGIN:VTIMEZONE
TZID:Europe/Budapest
BEGIN:DAYLIGHT
TZOFFSETFROM:+0100
TZOFFSETTO:+0200
TZNAME:CEST
DTSTART:20230326T010000
END:DAYLIGHT
BEGIN:STANDARD
TZOFFSETFROM:+0200
TZOFFSETTO:+0100
TZNAME:CET
DTSTART:20231029T010000
END:STANDARD
END:VTIMEZONE
BEGIN:VEVENT
DTSTART;TZID=Europe/Budapest:20230422T110000
DTEND;TZID=Europe/Budapest:20230422T123000
DTSTAMP:20260422T153645
CREATED:20230205T195748Z
LAST-MODIFIED:20230311T215520Z
UID:5856-1682161200-1682166600@erintesfesztival.hu
SUMMARY:Az érintés mélységeinek megtapasztalása (csoportos foglalkozás\, 90 perc)
DESCRIPTION:A 90 perces foglalkozás témája az érintés mélységeinek megtapasztalása. \nEgy 10 perces bevezető előadás után párokba fejlődve mindenki ad\, és kap egy 35 perces thai masszázst amit vezetek\, és szupervizionálok segítve a résztvevők tapasztalatait. A workshop célja inkább a tapasztalat szerzés\, és néhány thaimasszázs technika elsajátítása otthoni gyakorlásra. \nA résztvevők megismerhetik az energiavonalak megtalálásának és megnyitásának módját\, \n  \n
URL:https://erintesfesztival.hu/program/az-erintes-melysegeinek-megtapasztalasa-csoportos-foglalkozas-90-perc/
LOCATION:Jurányi Produkciós Közösségi Inkubátorház\, Jurányi utca 1-3.\, Budapest\, 1027\, Magyarország
CATEGORIES:"nyugis",csoportos program,masszázs
ATTACH;FMTTYPE=image/jpeg:https://erintesfesztival.hu/wp-content/uploads/2023/02/Ujhelyi-program-scaled.jpg
GEO:47.508832;19.0280193
X-APPLE-STRUCTURED-LOCATION;VALUE=URI;X-ADDRESS=Jurányi Produkciós Közösségi Inkubátorház Jurányi utca 1-3. Budapest 1027 Magyarország;X-APPLE-RADIUS=500;X-TITLE=Jurányi utca 1-3.:geo:19.0280193,47.508832
END:VEVENT
END:VCALENDAR