BEGIN:VCALENDAR
VERSION:2.0
PRODID:-//Érintés Fesztivál - ECPv5.1.5//NONSGML v1.0//EN
CALSCALE:GREGORIAN
METHOD:PUBLISH
X-WR-CALNAME:Érintés Fesztivál
X-ORIGINAL-URL:https://erintesfesztival.hu
X-WR-CALDESC:Events for Érintés Fesztivál
BEGIN:VTIMEZONE
TZID:Europe/Budapest
BEGIN:DAYLIGHT
TZOFFSETFROM:+0100
TZOFFSETTO:+0200
TZNAME:CEST
DTSTART:20230326T010000
END:DAYLIGHT
BEGIN:STANDARD
TZOFFSETFROM:+0200
TZOFFSETTO:+0100
TZNAME:CET
DTSTART:20231029T010000
END:STANDARD
END:VTIMEZONE
BEGIN:VEVENT
DTSTART;TZID=Europe/Budapest:20230422T110000
DTEND;TZID=Europe/Budapest:20230422T123000
DTSTAMP:20260422T153505
CREATED:20230205T180728Z
LAST-MODIFIED:20230408T101645Z
UID:5828-1682161200-1682166600@erintesfesztival.hu
SUMMARY:Együttműködő Kommunikációval (EMK) játékosan saját magunk és egymás felé (csoportos foglalkozás és előadás\, 90 perc)
DESCRIPTION:„A szavai simogatnak\, vagy szinte taszítanak… támaszt nyújt… körülölel a figyelme?” Néhány olyan beszédes kifejezés a nyelvünkben\, melyek érzékletesen mutatják meg\, hogy az a minőség\, ahogyan egymással beszélünk\, és ahogyan fizikailag is érint(kez)ünk\, milyen szorosan kapcsolódik\, egy tőről fakad! \nHogyan vagyunk képesek elengedni az ítélkezést\, és szeretettel figyelni önmagunkra és ezen keresztül a másikra? Van\, aki fizikai érintésen keresztül könnyebben nyitja meg a szívét\, van\, akinek a meghallgatás és kibeszélés a kulcs a szívéhez. Ha a kapukat és az utakat keressük\, és nem a gátaknál toporgunk\, akkor lépésről lépésre építhetjük a bizalmat az örömteli együttlétig. \nAz Együttműködő (Erőszakmentes) Kommunikáció (EMK) kapcsolatteremtő\, konfliktuskezelő módszer. Azt hirdeti\, hogy egy feszült pillanat épp úgy alkalmas találkozást teremteni\, mint egy békés. Szemléletmódját most néhány páros és csoportos játékos gyakorlaton keresztül\, és a tapasztalatainkat megosztva közelítjük meg. Ezek segítségével könnyebben felismerjük saját magunk és a másik fél érzéseit és szükségleteit\, és megtanulhatunk ezekről gyengéden és szabadon\, tisztelettel beszélni. Elindulhat egy új minőségű kapcsolat! \n
URL:https://erintesfesztival.hu/program/egyuttmukodo-kommunikacioval-emk-jatekosan-sajat-magunk-es-egymas-fele-csoportos-foglalkozas-es-eloadas-90-perc/
LOCATION:Jurányi Produkciós Közösségi Inkubátorház\, Jurányi utca 1-3.\, Budapest\, 1027\, Magyarország
CATEGORIES:"nyugis",csoportos program
ATTACH;FMTTYPE=image/jpeg:https://erintesfesztival.hu/wp-content/uploads/2023/02/Redo-EMK-csoport.jpg
GEO:47.508832;19.0280193
X-APPLE-STRUCTURED-LOCATION;VALUE=URI;X-ADDRESS=Jurányi Produkciós Közösségi Inkubátorház Jurányi utca 1-3. Budapest 1027 Magyarország;X-APPLE-RADIUS=500;X-TITLE=Jurányi utca 1-3.:geo:19.0280193,47.508832
END:VEVENT
END:VCALENDAR