BEGIN:VCALENDAR
VERSION:2.0
PRODID:-//Érintés Fesztivál - ECPv5.1.5//NONSGML v1.0//EN
CALSCALE:GREGORIAN
METHOD:PUBLISH
X-WR-CALNAME:Érintés Fesztivál
X-ORIGINAL-URL:https://erintesfesztival.hu
X-WR-CALDESC:Events for Érintés Fesztivál
BEGIN:VTIMEZONE
TZID:Europe/Budapest
BEGIN:DAYLIGHT
TZOFFSETFROM:+0100
TZOFFSETTO:+0200
TZNAME:CEST
DTSTART:20230326T010000
END:DAYLIGHT
BEGIN:STANDARD
TZOFFSETFROM:+0200
TZOFFSETTO:+0100
TZNAME:CET
DTSTART:20231029T010000
END:STANDARD
END:VTIMEZONE
BEGIN:VEVENT
DTSTART;TZID=Europe/Budapest:20230422T110100
DTEND;TZID=Europe/Budapest:20230422T160000
DTSTAMP:20260422T153154
CREATED:20230318T105752Z
LAST-MODIFIED:20230414T061753Z
UID:6017-1682161260-1682179200@erintesfesztival.hu
SUMMARY:Hangölelő ízelítő (egyéni kezelés\, 30 perc)
DESCRIPTION:Erre az ingyenes programra előzetes helyfoglalás szükséges!  \nKérjük hívd: 06306674258 vagy írj: puskanora@gmail.com  \nEgy olyan kezelésre várunk téged\, ahol az érintés és a hang találkozik\, közös áramlásuk elringat\, ez a 30 perc csak rólad\, neked szól. A szent térben születik meg egy teljesen intuitív áramlás-varázslat\, ami segíthet a stresszoldásban\, teremtésben és elindulhatnak az öngyógyító folyamatok.  \nKetten tartjuk ezt a teret számodra\, Puska Nóra az érintést adja\, Nagy Barbara a hangokkal segíti a teljes ellazulásodat.  \nAz érintésben kiválaszthatod milyen minőségre van éppen szükséged – fejmasszázs\, reiki kezelés\, ringatás -\, de minden esetben a lágy\, de mélyen ható mozdulatok és a megtartó figyelem van jelen.  \nA hangfürdőben pedig hangtálak\, gitárjáték\, gyógyító mantrák\, intuitív dalok szólalnak meg\, amiket a pillanat szül és amik csak neked szólnak.  \nA gyengéd\, gondoskodó érintések közben olyan biztonságot élhetsz meg\, ami mély relaxációt tesz lehetővé\, és végre igazán megpihenhet a tested és a lelked. A mantrák\, a hangtál rezgései pedig energetikai tisztítást\, gyógyítást végeznek.  \nMielőtt eljössz hozzánk\, gondold át\, mi az\, amin szeretnél az életedben változtatni\, mit szeretnél megvalósítani\, milyen szándékot küldenél ki az univerzumba egy szóval vagy maximum egy mondatban megfogalmazva.  \nAz ingyenes kezelés időtartama 30 perc. \n Választható időpontok: 10.00\, 10.45\, 11.30\, 12.15\, 13.00\, 13.45\, 14.30\, 15.15\, hívj vagy írj\, mikor jönnél.  \nSzeretettel várunk! Barbi és Nóra \n
URL:https://erintesfesztival.hu/program/hangolelo_izelito/
LOCATION:Jurányi Produkciós Közösségi Inkubátorház\, Jurányi utca 1-3.\, Budapest\, 1027\, Magyarország
CATEGORIES:"nyugis",egyéni program,kezelés
ATTACH;FMTTYPE=image/jpeg:https://erintesfesztival.hu/wp-content/uploads/2023/03/Hangolelo-izelito.jpeg
GEO:47.508832;19.0280193
X-APPLE-STRUCTURED-LOCATION;VALUE=URI;X-ADDRESS=Jurányi Produkciós Közösségi Inkubátorház Jurányi utca 1-3. Budapest 1027 Magyarország;X-APPLE-RADIUS=500;X-TITLE=Jurányi utca 1-3.:geo:19.0280193,47.508832
END:VEVENT
END:VCALENDAR