BEGIN:VCALENDAR
VERSION:2.0
PRODID:-//Érintés Fesztivál - ECPv5.1.5//NONSGML v1.0//EN
CALSCALE:GREGORIAN
METHOD:PUBLISH
X-WR-CALNAME:Érintés Fesztivál
X-ORIGINAL-URL:https://erintesfesztival.hu
X-WR-CALDESC:Events for Érintés Fesztivál
BEGIN:VTIMEZONE
TZID:Europe/Budapest
BEGIN:DAYLIGHT
TZOFFSETFROM:+0100
TZOFFSETTO:+0200
TZNAME:CEST
DTSTART:20230326T010000
END:DAYLIGHT
BEGIN:STANDARD
TZOFFSETFROM:+0200
TZOFFSETTO:+0100
TZNAME:CET
DTSTART:20231029T010000
END:STANDARD
END:VTIMEZONE
BEGIN:VEVENT
DTSTART;TZID=Europe/Budapest:20230423T153000
DTEND;TZID=Europe/Budapest:20230423T170000
DTSTAMP:20260422T171028
CREATED:20230321T203339Z
LAST-MODIFIED:20230321T203339Z
UID:6039-1682263800-1682269200@erintesfesztival.hu
SUMMARY:Mi a BDSM? A szexuális önkifejezés alternatív útjai
DESCRIPTION:Mi a BDSM? Betegségnek számít-e\, ha az ember alá-fölérendeltséggel\, illetve fájdalommal szeretne játszani szexuális helyzetekben? Lehet-e ezt biztonságos keretek között\, kölcsönös beleegyezéssel csinálni? Ilyen és ehhez hasonló kérdésekre ad választ az előadás\, amelyben szó esik arról is\, hogy milyen hatással van az ember lelki egészségére az\, ha lehetősége van megélni a szokatlan szexuális vágyait. \n  \n
URL:https://erintesfesztival.hu/program/mi-a-bdsm-a-szexualis-onkifejezes-alternativ-utjai/
LOCATION:Jurányi Produkciós Közösségi Inkubátorház\, Jurányi utca 1-3.\, Budapest\, 1027\, Magyarország
CATEGORIES:"nyugis",előadás
ATTACH;FMTTYPE=image/jpeg:https://erintesfesztival.hu/wp-content/uploads/2023/03/Saary-program-scaled.jpg
GEO:47.508832;19.0280193
X-APPLE-STRUCTURED-LOCATION;VALUE=URI;X-ADDRESS=Jurányi Produkciós Közösségi Inkubátorház Jurányi utca 1-3. Budapest 1027 Magyarország;X-APPLE-RADIUS=500;X-TITLE=Jurányi utca 1-3.:geo:19.0280193,47.508832
END:VEVENT
END:VCALENDAR