BEGIN:VCALENDAR
VERSION:2.0
PRODID:-//Érintés Fesztivál - ECPv5.1.5//NONSGML v1.0//EN
CALSCALE:GREGORIAN
METHOD:PUBLISH
X-WR-CALNAME:Érintés Fesztivál
X-ORIGINAL-URL:https://erintesfesztival.hu
X-WR-CALDESC:Events for Érintés Fesztivál
BEGIN:VTIMEZONE
TZID:Europe/Budapest
BEGIN:DAYLIGHT
TZOFFSETFROM:+0100
TZOFFSETTO:+0200
TZNAME:CEST
DTSTART:20230326T010000
END:DAYLIGHT
BEGIN:STANDARD
TZOFFSETFROM:+0200
TZOFFSETTO:+0100
TZNAME:CET
DTSTART:20231029T010000
END:STANDARD
END:VTIMEZONE
BEGIN:VEVENT
DTSTART;TZID=Europe/Budapest:20230422T173000
DTEND;TZID=Europe/Budapest:20230422T190000
DTSTAMP:20260422T171002
CREATED:20230404T142701Z
LAST-MODIFIED:20230404T142701Z
UID:6116-1682184600-1682190000@erintesfesztival.hu
SUMMARY:Tantrikus transztánc (csoportos foglalkozás\, 90 perc)
DESCRIPTION:Tantrikus transztánc Chandrával \n
URL:https://erintesfesztival.hu/program/tantrikus-transztanc-csoportos-foglalkozas-90-perc/
LOCATION:Jurányi Produkciós Közösségi Inkubátorház\, Jurányi utca 1-3.\, Budapest\, 1027\, Magyarország
CATEGORIES:"mozgalmas",csoportos program
ATTACH;FMTTYPE=image/jpeg:https://erintesfesztival.hu/wp-content/uploads/2016/12/shutterstock_272600351_1920_forg.jpg
GEO:47.508832;19.0280193
X-APPLE-STRUCTURED-LOCATION;VALUE=URI;X-ADDRESS=Jurányi Produkciós Közösségi Inkubátorház Jurányi utca 1-3. Budapest 1027 Magyarország;X-APPLE-RADIUS=500;X-TITLE=Jurányi utca 1-3.:geo:19.0280193,47.508832
END:VEVENT
END:VCALENDAR